BEGIN:VCALENDAR
VERSION:2.0
PRODID:City of Evanston Calendar Creator
METHOD:PUBLISH
BEGIN:VEVENT
DTSTAMP:20251008T145411
DTSTART:20260403T100000
DTEND:20260403T113000
SUMMARY:Healthy Buildings Accountability Board
DESCRIPTION:<p>Meeting held in the Council Chamber.&nbsp;</p><p>Meeting agendas are posted 48 hours in advance of the meeting on the&nbsp; Healthy Buildings Accountability Board <a href="https://www.cityofevanston.org/government/healthy-buildings-accountability-board-hbab-and-technical-committee-hbtc" target="_blank" rel="noopener">website</a>.&nbsp;</p><p>Submit&nbsp;<a href="https://docs.google.com/forms/d/e/1FAIpQLScc9YzbynADimbyVynKBirL3s0C8q5PmqzInYjWOF0liaufiw/viewform" target="_blank">public comment</a>.&nbsp;</p>
X-ALT-DESC;FMTTYPE=text/html:<p>Meeting held in the Council Chamber.&nbsp;</p><p>Meeting agendas are posted 48 hours in advance of the meeting on the&nbsp; Healthy Buildings Accountability Board <a href="https://www.cityofevanston.org/government/healthy-buildings-accountability-board-hbab-and-technical-committee-hbtc" target="_blank" rel="noopener">website</a>.&nbsp;</p><p>Submit&nbsp;<a href="https://docs.google.com/forms/d/e/1FAIpQLScc9YzbynADimbyVynKBirL3s0C8q5PmqzInYjWOF0liaufiw/viewform" target="_blank">public comment</a>.&nbsp;</p>
LOCATION:Lorraine H. Morton City Hall - Council Chambers\, 909 Davis Street Evanston\, Illinois 60201
CLASS:PUBLIC
END:VEVENT
END:VCALENDAR
