BEGIN:VCALENDAR
VERSION:2.0
PRODID:City of Evanston Calendar Creator
METHOD:PUBLISH
BEGIN:VEVENT
DTSTAMP:20251016T155605
DTSTART:20260422T180000
DTEND:20260422T200000
SUMMARY:3rd Ward Office Hours
DESCRIPTION:Join 3rd Ward Council Member Iles for Office Hours on the 3rd Monday of the month, from 6 p.m. to 8 p.m., at Hoosier Mama Pie Company.&nbsp;
X-ALT-DESC;FMTTYPE=text/html:Join 3rd Ward Council Member Iles for Office Hours on the 3rd Monday of the month, from 6 p.m. to 8 p.m., at Hoosier Mama Pie Company.&nbsp;
LOCATION:The Hoosier Mama Pie Company\, 749 Chicago Ave Evanston\, Illinois 60202
CLASS:PUBLIC
END:VEVENT
END:VCALENDAR
