BEGIN:VCALENDAR
VERSION:2.0
PRODID:City of Evanston Calendar Creator
METHOD:PUBLISH
BEGIN:VEVENT
DTSTAMP:20251105T144711
DTSTART:20260425T080000
DTEND:20260425T120000
SUMMARY:Indoor Farmers' Market
DESCRIPTION:<p align="left">The City is excited to announce the return of the Indoor Farmers’ Market at the newly renovated Evanston Ecology Center, 2024 McCormick Blvd. The market will be open from 8 a.m. to noon on select Saturdays from November through April.</p><p data-start="347" data-end="366" align="left"><strong>Market Dates</strong></p><ul data-start="367" data-end="517">    <li data-start="367" data-end="394">November: 8, 15, 29</li>    <li data-start="395" data-end="419">December: 13, 27</li>    <li data-start="420" data-end="443">January: 10, 24</li>    <li data-start="444" data-end="467">February: 7, 21</li>    <li data-start="468" data-end="488">March: 7, 21</li>    <li data-start="489" data-end="517">April: 4, 11, 18, 25</li></ul><p data-start="519" data-end="732" align="left">Shop from around 15 local vendors each market date, offering seasonal produce, meats, fish, cheese, honey, baked goods, and more. Enjoy breakfast and a hot drink while you browse and support local farmers and artisans.</p><p data-start="734" data-end="804" align="left"><strong>Parking</strong></p><p data-start="734" data-end="804" align="left">Free parking is available&nbsp;in the lot across the street from the Ecology Center at Bridge and McCormick. The parking lot is accessible from McCormick Blvd.</p><br>
X-ALT-DESC;FMTTYPE=text/html:<p align="left">The City is excited to announce the return of the Indoor Farmers’ Market at the newly renovated Evanston Ecology Center, 2024 McCormick Blvd. The market will be open from 8 a.m. to noon on select Saturdays from November through April.</p><p data-start="347" data-end="366" align="left"><strong>Market Dates</strong></p><ul data-start="367" data-end="517">    <li data-start="367" data-end="394">November: 8, 15, 29</li>    <li data-start="395" data-end="419">December: 13, 27</li>    <li data-start="420" data-end="443">January: 10, 24</li>    <li data-start="444" data-end="467">February: 7, 21</li>    <li data-start="468" data-end="488">March: 7, 21</li>    <li data-start="489" data-end="517">April: 4, 11, 18, 25</li></ul><p data-start="519" data-end="732" align="left">Shop from around 15 local vendors each market date, offering seasonal produce, meats, fish, cheese, honey, baked goods, and more. Enjoy breakfast and a hot drink while you browse and support local farmers and artisans.</p><p data-start="734" data-end="804" align="left"><strong>Parking</strong></p><p data-start="734" data-end="804" align="left">Free parking is available&nbsp;in the lot across the street from the Ecology Center at Bridge and McCormick. The parking lot is accessible from McCormick Blvd.</p><br>
LOCATION:Evanston Ecology Center\, 2024 McCormick Blvd. Evanston\, Illinois 60201
CLASS:PUBLIC
END:VEVENT
END:VCALENDAR
