BEGIN:VCALENDAR
VERSION:2.0
PRODID:City of Evanston Calendar Creator
METHOD:PUBLISH
BEGIN:VEVENT
DTSTAMP:20251204T123316
DTSTART:20260408T183000
DTEND:20260408T210000
SUMMARY:Citizen Police Review Commission
DESCRIPTION:<p>Citizen Police Review Commission&nbsp;</p><p>Agendas are posted 48 hours in advance of the meeting.</p><p>For a link to the meeting, please go to the&nbsp;<a href="https://www.cityofevanston.org/government/boards-commissions-and-committees/citizen-police-review-commission#!/" target="_blank" rel="noopener">Committee Webpage</a>, scroll down, then click on the meeting agenda.<br><br>Public Comment: &nbsp;<a href="https://www.cityofevanston.org/government/city-clerk/public-comment-sign-up" target="_blank" data-saferedirecturl="https://www.google.com/url?q=https://www.cityofevanston.org/government/city-clerk/public-comment-sign-up&amp;source=gmail&amp;ust=1608055941881000&amp;usg=AFQjCNHn03gott-AtUdScDZt_z5B9m0VdQ">https://www.cityofevanston.<wbr>org/government/city-clerk/<wbr>public-comment-sign-up</a>&nbsp;&nbsp;</p>
X-ALT-DESC;FMTTYPE=text/html:<p>Citizen Police Review Commission&nbsp;</p><p>Agendas are posted 48 hours in advance of the meeting.</p><p>For a link to the meeting, please go to the&nbsp;<a href="https://www.cityofevanston.org/government/boards-commissions-and-committees/citizen-police-review-commission#!/" target="_blank" rel="noopener">Committee Webpage</a>, scroll down, then click on the meeting agenda.<br><br>Public Comment: &nbsp;<a href="https://www.cityofevanston.org/government/city-clerk/public-comment-sign-up" target="_blank" data-saferedirecturl="https://www.google.com/url?q=https://www.cityofevanston.org/government/city-clerk/public-comment-sign-up&amp;source=gmail&amp;ust=1608055941881000&amp;usg=AFQjCNHn03gott-AtUdScDZt_z5B9m0VdQ">https://www.cityofevanston.<wbr>org/government/city-clerk/<wbr>public-comment-sign-up</a>&nbsp;&nbsp;</p>
LOCATION:Evanston Fire Department Headquarters\, 909 Lake St Evanston\, Illinois 60201
CLASS:PUBLIC
END:VEVENT
END:VCALENDAR
