BEGIN:VCALENDAR
VERSION:2.0
PRODID:City of Evanston Calendar Creator
METHOD:PUBLISH
BEGIN:VEVENT
DTSTAMP:20251205T162004
DTSTART:20260408T143000
DTEND:20260408T153000
SUMMARY:Board of Local Improvements
DESCRIPTION:The Board of Local Improvements agendas will be posted on the&nbsp;<a href="https://www.cityofevanston.org/government/boards-commissions-and-committees/board-of-local-improvements" target="_self">board's webpage</a>
X-ALT-DESC;FMTTYPE=text/html:The Board of Local Improvements agendas will be posted on the&nbsp;<a href="https://www.cityofevanston.org/government/boards-commissions-and-committees/board-of-local-improvements" target="_self">board's webpage</a>
LOCATION:Lorraine H. Morton City Hall - Council Chambers\, 909 Davis Street Evanston\, Illinois 60201
CLASS:PUBLIC
END:VEVENT
END:VCALENDAR
