BEGIN:VCALENDAR
VERSION:2.0
PRODID:City of Evanston Calendar Creator
METHOD:PUBLISH
BEGIN:VEVENT
DTSTAMP:20251210T154726
DTSTART:20260406T170000
DTEND:20260406T180000
SUMMARY:Rules Committee
DESCRIPTION:Meeting agendas are posted 48 hours in advance of the meeting on the&nbsp;<a href="https://www.cityofevanston.org/government/boards-commissions-and-committees/rules" target="_blank">committee webpage</a>.<br><br>This meeting is scheduled to be broadcast live on Channel 16 and will be replayed later in the week. A schedule is available at&nbsp;<a href="http://cityofevanston.org/tv" target="_blank" data-saferedirecturl="https://www.google.com/url?q=http://cityofevanston.org/tv&amp;source=gmail&amp;ust=1608055941881000&amp;usg=AFQjCNE2tznR62WOZYaZKO6l_DbHwemHyQ">cityofevanston.org/tv</a>.<br>Channel 16 may be viewed online 24 hours a day on the City’s YouTube Channel or on your television:<br>Comcast subscriber: Channel 16.<br>AT&amp;T U-Verse subscriber: Channel 99, select Evanston, select City Channel 16.
X-ALT-DESC;FMTTYPE=text/html:Meeting agendas are posted 48 hours in advance of the meeting on the&nbsp;<a href="https://www.cityofevanston.org/government/boards-commissions-and-committees/rules" target="_blank">committee webpage</a>.<br><br>This meeting is scheduled to be broadcast live on Channel 16 and will be replayed later in the week. A schedule is available at&nbsp;<a href="http://cityofevanston.org/tv" target="_blank" data-saferedirecturl="https://www.google.com/url?q=http://cityofevanston.org/tv&amp;source=gmail&amp;ust=1608055941881000&amp;usg=AFQjCNE2tznR62WOZYaZKO6l_DbHwemHyQ">cityofevanston.org/tv</a>.<br>Channel 16 may be viewed online 24 hours a day on the City’s YouTube Channel or on your television:<br>Comcast subscriber: Channel 16.<br>AT&amp;T U-Verse subscriber: Channel 99, select Evanston, select City Channel 16.
LOCATION:Lorraine H. Morton City Hall - Council Chambers\, 909 Davis Street Evanston\, Illinois 60201
CLASS:PUBLIC
END:VEVENT
END:VCALENDAR
