BEGIN:VCALENDAR
VERSION:2.0
PRODID:City of Evanston Calendar Creator
METHOD:PUBLISH
BEGIN:VEVENT
DTSTAMP:20251210T162921
DTSTART:20260427T163000
DTEND:20260427T235900
SUMMARY:Referrals Committe
DESCRIPTION:Meeting agendas are posted 48 hours in advance of the meeting on the&nbsp;<a href="https://www.cityofevanston.org/government/boards-commissions-and-committees/referrals-committee/-fsiteid-1" target="_blank" rel="noopener">Referrals Committee page.</a>
X-ALT-DESC;FMTTYPE=text/html:Meeting agendas are posted 48 hours in advance of the meeting on the&nbsp;<a href="https://www.cityofevanston.org/government/boards-commissions-and-committees/referrals-committee/-fsiteid-1" target="_blank" rel="noopener">Referrals Committee page.</a>
LOCATION:Lorraine H. Morton City Hall - Council Chambers\, 909 Davis Street Evanston\, Illinois 60201
CLASS:PUBLIC
END:VEVENT
END:VCALENDAR
