BEGIN:VCALENDAR
VERSION:2.0
PRODID:City of Evanston Calendar Creator
METHOD:PUBLISH
BEGIN:VEVENT
DTSTAMP:20251212T095928
DTSTART:20260427T170000
DTEND:20260427T235900
SUMMARY:Administration & Public Works Committee
DESCRIPTION:Meeting agendas are posted 48 hours in advance of the meeting on the&nbsp;<a href="https://www.cityofevanston.org/government/boards-commissions-and-committees/administration-public-works" target="_blank" data-saferedirecturl="https://www.google.com/url?q=https://www.cityofevanston.org/government/agendas-minutes/standing-committees-of-the-council/administration-public-works&amp;source=gmail&amp;ust=1608055941881000&amp;usg=AFQjCNHFQ6YBPEJjfXtz8BgEkY1_871ayg">committee webpage</a>.<br><br>This meeting is scheduled to be broadcast live on Channel 16 and will be replayed later in the week. A schedule is available at&nbsp;<a href="http://cityofevanston.org/tv" target="_blank" data-saferedirecturl="https://www.google.com/url?q=http://cityofevanston.org/tv&amp;source=gmail&amp;ust=1608055941881000&amp;usg=AFQjCNE2tznR62WOZYaZKO6l_DbHwemHyQ">cityofevanston.org/tv</a>.<br>Channel 16 may be viewed online 24 hours a day on the City’s YouTube Channel or on your television:<br>Comcast subscriber: Channel 16.<br>AT&amp;T U-Verse subscriber: Channel 99, select Evanston, select City Channel 16.<br><br>Public Comment: &nbsp;<a href="https://www.cityofevanston.org/government/city-clerk/public-comment-sign-up" target="_blank" data-saferedirecturl="https://www.google.com/url?q=https://www.cityofevanston.org/government/city-clerk/public-comment-sign-up&amp;source=gmail&amp;ust=1608055941881000&amp;usg=AFQjCNHn03gott-AtUdScDZt_z5B9m0VdQ">https://www.cityofevanston.<wbr>org/government/city-clerk/<wbr>public-comment-sign-up</a>
X-ALT-DESC;FMTTYPE=text/html:Meeting agendas are posted 48 hours in advance of the meeting on the&nbsp;<a href="https://www.cityofevanston.org/government/boards-commissions-and-committees/administration-public-works" target="_blank" data-saferedirecturl="https://www.google.com/url?q=https://www.cityofevanston.org/government/agendas-minutes/standing-committees-of-the-council/administration-public-works&amp;source=gmail&amp;ust=1608055941881000&amp;usg=AFQjCNHFQ6YBPEJjfXtz8BgEkY1_871ayg">committee webpage</a>.<br><br>This meeting is scheduled to be broadcast live on Channel 16 and will be replayed later in the week. A schedule is available at&nbsp;<a href="http://cityofevanston.org/tv" target="_blank" data-saferedirecturl="https://www.google.com/url?q=http://cityofevanston.org/tv&amp;source=gmail&amp;ust=1608055941881000&amp;usg=AFQjCNE2tznR62WOZYaZKO6l_DbHwemHyQ">cityofevanston.org/tv</a>.<br>Channel 16 may be viewed online 24 hours a day on the City’s YouTube Channel or on your television:<br>Comcast subscriber: Channel 16.<br>AT&amp;T U-Verse subscriber: Channel 99, select Evanston, select City Channel 16.<br><br>Public Comment: &nbsp;<a href="https://www.cityofevanston.org/government/city-clerk/public-comment-sign-up" target="_blank" data-saferedirecturl="https://www.google.com/url?q=https://www.cityofevanston.org/government/city-clerk/public-comment-sign-up&amp;source=gmail&amp;ust=1608055941881000&amp;usg=AFQjCNHn03gott-AtUdScDZt_z5B9m0VdQ">https://www.cityofevanston.<wbr>org/government/city-clerk/<wbr>public-comment-sign-up</a>
LOCATION:Lorraine H. Morton City Hall - Council Chambers\, 909 Davis Street Evanston\, Illinois 60201
CLASS:PUBLIC
END:VEVENT
END:VCALENDAR
