BEGIN:VCALENDAR
VERSION:2.0
PRODID:City of Evanston Calendar Creator
METHOD:PUBLISH
BEGIN:VEVENT
DTSTAMP:20251216T093244
DTSTART:20260427T180000
DTEND:20260427T234500
SUMMARY:City Council
DESCRIPTION:Meeting agendas are posted 48 hours in advance of the meeting on the&nbsp;<a href="https://www.cityofevanston.org/government/city-council-agendas-and-minutes" target="_blank">City Council meeting webpage</a>.<br><br>This meeting is scheduled to be broadcast live on Channel 16 and will be replayed later in the week. A schedule is available at&nbsp;<a href="http://cityofevanston.org/tv" target="_blank" data-saferedirecturl="https://www.google.com/url?q=http://cityofevanston.org/tv&amp;source=gmail&amp;ust=1608052047572000&amp;usg=AFQjCNHlszo16ABzl0d7J3NpTXCjk_EAXw">cityofevanston.org/tv</a>.<br>Channel 16 may be viewed online 24 hours a day on the City’s YouTube Channel or on your television:<br>Comcast subscriber: Channel 16.<br>AT&amp;T U-Verse subscriber: Channel 99, select Evanston, select City Channel 16.<br><br>Public Comment: &nbsp;<a rel="noopener" href="https://www.cityofevanston.org/government/public-comment-guide" target="_blank" data-saferedirecturl="https://www.google.com/url?q=https://www.cityofevanston.org/government/public-comment-guide&amp;source=gmail&amp;ust=1762353237172000&amp;usg=AOvVaw1c3TN4YHg7pJKnWoFZe3Ce">https://www.cityofevanston.<wbr>org/government/public-comment-<wbr>guide</a>
X-ALT-DESC;FMTTYPE=text/html:Meeting agendas are posted 48 hours in advance of the meeting on the&nbsp;<a href="https://www.cityofevanston.org/government/city-council-agendas-and-minutes" target="_blank">City Council meeting webpage</a>.<br><br>This meeting is scheduled to be broadcast live on Channel 16 and will be replayed later in the week. A schedule is available at&nbsp;<a href="http://cityofevanston.org/tv" target="_blank" data-saferedirecturl="https://www.google.com/url?q=http://cityofevanston.org/tv&amp;source=gmail&amp;ust=1608052047572000&amp;usg=AFQjCNHlszo16ABzl0d7J3NpTXCjk_EAXw">cityofevanston.org/tv</a>.<br>Channel 16 may be viewed online 24 hours a day on the City’s YouTube Channel or on your television:<br>Comcast subscriber: Channel 16.<br>AT&amp;T U-Verse subscriber: Channel 99, select Evanston, select City Channel 16.<br><br>Public Comment: &nbsp;<a rel="noopener" href="https://www.cityofevanston.org/government/public-comment-guide" target="_blank" data-saferedirecturl="https://www.google.com/url?q=https://www.cityofevanston.org/government/public-comment-guide&amp;source=gmail&amp;ust=1762353237172000&amp;usg=AOvVaw1c3TN4YHg7pJKnWoFZe3Ce">https://www.cityofevanston.<wbr>org/government/public-comment-<wbr>guide</a>
LOCATION:Lorraine H. Morton City Hall - Council Chambers\, 909 Davis Street Evanston\, Illinois 60201
CLASS:PUBLIC
END:VEVENT
END:VCALENDAR
