BEGIN:VCALENDAR
VERSION:2.0
PRODID:City of Evanston Calendar Creator
METHOD:PUBLISH
BEGIN:VEVENT
DTSTAMP:20260105T100637
DTSTART:20260520T130000
DTEND:20260520T160000
SUMMARY:Landlord/Tenant Walk-In Hours
DESCRIPTION:<p align="left"><strong>&nbsp;Get one-on-one, in-person assistance!</strong></p><p>&nbsp;Are you a tenant or landlord with housing concerns? Want to learn more about the updates to the Residential Landlord Tenant Ordinance? </p><p>The Metropolitan Tenants Organization is here to help with one-on-one support to address your housing-related questions.</p><p>&nbsp;<strong>When:</strong></p><p align="left">Wednesday, May 20, 2026</p><p align="left">1:00 p.m. - 4:00 p.m.</p><p align="left">Evanston Public Library - 3rd Floor</p><p align="left">1703 Orrington Ave, Evanston, IL 60201</p><p align="left"><strong>To Register please email:&nbsp;&nbsp;<a href="mailto:evanston@tenants-rights.org" target="_blank">evanston@tenants-rights.org</a></strong></p><p align="center" style="text-align: left;"><strong>Presented by:</strong></p><p align="center" style="text-align: left;"><a href="https://links-1.govdelivery.com/CL0/https:%2F%2Fwww.tenants-rights.org%2F/1/010001953f576106-4aed30b7-c2dd-4fb2-a5d1-04ceaf211353-000000/nS78zNQAf1qeczlrGtizh-oO3TZ6UcHivFwOR7b2qd4=394" rel="noopener" target="_blank" data-saferedirecturl="https://www.google.com/url?q=https://links-1.govdelivery.com/CL0/https:%252F%252Fwww.tenants-rights.org%252F/1/010001953f576106-4aed30b7-c2dd-4fb2-a5d1-04ceaf211353-000000/nS78zNQAf1qeczlrGtizh-oO3TZ6UcHivFwOR7b2qd4%3D394&amp;source=gmail&amp;ust=1740672122904000&amp;usg=AOvVaw1L5AvnS4UxT7aG9nGclocc">Metropolitan Tenants Organization</a></p><p align="center" style="text-align: left;">For more information, please contact the Metropolitan Tenants Organization via 773-292-4988 or&nbsp;<a href="https://links-1.govdelivery.com/CL0/https:%2F%2Fwww.cityofevanston.org%2Fhow-to%2F311/1/010001953f576106-4aed30b7-c2dd-4fb2-a5d1-04ceaf211353-000000/EM9VLIidauy4hfDQf6VT0RjDplP6iGvs3Lzc6IKJP88=394" rel="noopener" target="_blank" data-saferedirecturl="https://www.google.com/url?q=https://links-1.govdelivery.com/CL0/https:%252F%252Fwww.cityofevanston.org%252Fhow-to%252F311/1/010001953f576106-4aed30b7-c2dd-4fb2-a5d1-04ceaf211353-000000/EM9VLIidauy4hfDQf6VT0RjDplP6iGvs3Lzc6IKJP88%3D394&amp;source=gmail&amp;ust=1740672122904000&amp;usg=AOvVaw0hK4nY7NXD2XPhm6Xa4U9A">Evanston 311&nbsp;</a></p>
X-ALT-DESC;FMTTYPE=text/html:<p align="left"><strong>&nbsp;Get one-on-one, in-person assistance!</strong></p><p>&nbsp;Are you a tenant or landlord with housing concerns? Want to learn more about the updates to the Residential Landlord Tenant Ordinance? </p><p>The Metropolitan Tenants Organization is here to help with one-on-one support to address your housing-related questions.</p><p>&nbsp;<strong>When:</strong></p><p align="left">Wednesday, May 20, 2026</p><p align="left">1:00 p.m. - 4:00 p.m.</p><p align="left">Evanston Public Library - 3rd Floor</p><p align="left">1703 Orrington Ave, Evanston, IL 60201</p><p align="left"><strong>To Register please email:&nbsp;&nbsp;<a href="mailto:evanston@tenants-rights.org" target="_blank">evanston@tenants-rights.org</a></strong></p><p align="center" style="text-align: left;"><strong>Presented by:</strong></p><p align="center" style="text-align: left;"><a href="https://links-1.govdelivery.com/CL0/https:%2F%2Fwww.tenants-rights.org%2F/1/010001953f576106-4aed30b7-c2dd-4fb2-a5d1-04ceaf211353-000000/nS78zNQAf1qeczlrGtizh-oO3TZ6UcHivFwOR7b2qd4=394" rel="noopener" target="_blank" data-saferedirecturl="https://www.google.com/url?q=https://links-1.govdelivery.com/CL0/https:%252F%252Fwww.tenants-rights.org%252F/1/010001953f576106-4aed30b7-c2dd-4fb2-a5d1-04ceaf211353-000000/nS78zNQAf1qeczlrGtizh-oO3TZ6UcHivFwOR7b2qd4%3D394&amp;source=gmail&amp;ust=1740672122904000&amp;usg=AOvVaw1L5AvnS4UxT7aG9nGclocc">Metropolitan Tenants Organization</a></p><p align="center" style="text-align: left;">For more information, please contact the Metropolitan Tenants Organization via 773-292-4988 or&nbsp;<a href="https://links-1.govdelivery.com/CL0/https:%2F%2Fwww.cityofevanston.org%2Fhow-to%2F311/1/010001953f576106-4aed30b7-c2dd-4fb2-a5d1-04ceaf211353-000000/EM9VLIidauy4hfDQf6VT0RjDplP6iGvs3Lzc6IKJP88=394" rel="noopener" target="_blank" data-saferedirecturl="https://www.google.com/url?q=https://links-1.govdelivery.com/CL0/https:%252F%252Fwww.cityofevanston.org%252Fhow-to%252F311/1/010001953f576106-4aed30b7-c2dd-4fb2-a5d1-04ceaf211353-000000/EM9VLIidauy4hfDQf6VT0RjDplP6iGvs3Lzc6IKJP88%3D394&amp;source=gmail&amp;ust=1740672122904000&amp;usg=AOvVaw0hK4nY7NXD2XPhm6Xa4U9A">Evanston 311&nbsp;</a></p>
LOCATION:Evanston Public Library\, 1703 Orrington Avenue Evanston\, Illinois 60201
CLASS:PUBLIC
END:VEVENT
END:VCALENDAR
