BEGIN:VCALENDAR
VERSION:2.0
PRODID:City of Evanston Calendar Creator
METHOD:PUBLISH
BEGIN:VEVENT
DTSTAMP:20260108T102026
DTSTART:20260414T150000
DTEND:20260414T160000
SUMMARY:Dementia Friendly Subcommittee
DESCRIPTION:<h3 dir="ltr">Event Description:</h3><p dir="ltr">Dementia Friendly Illinois Subcommittee monthly meeting.</p><p dir="ltr">&nbsp;</p><hr><p>&nbsp;</p><h3 dir="ltr">Meeting Details:</h3><p dir="ltr">Meeting Format: This event is hybrid (both in-person and virtual options available).&nbsp;</p><p dir="ltr">Online Meeting Link:&nbsp;</p><p dir="ltr">Join meeting with Zoom: <a href="https://us06web.zoom.us/j/81253231085?pwd=beaTSD27JdG8iqqbGVrke8MDdubpkE.1">https://us06web.zoom.us/j/81253231085?pwd=beaTSD27JdG8iqqbGVrke8MDdubpkE.1</a></p><p dir="ltr">Passcode: 862682</p><p dir="ltr">Public Comment: To sign up for public comment, please email aging@cityofevanston.org</p><p dir="ltr">Meeting Materials:</p><ul>    <li dir="ltr" aria-level="1">    <p dir="ltr" role="presentation">Agendas are posted 48 hours in advance on the committee webpage</p>    </li></ul><p dir="ltr">Learn More:</p><ul>    <li dir="ltr" aria-level="1">    <p dir="ltr" role="presentation"><a href="https://www.cityofevanston.org/government/boards-commissions-and-committees/commission-on-aging">Committee Webpage</a></p>    </li></ul>
X-ALT-DESC;FMTTYPE=text/html:<h3 dir="ltr">Event Description:</h3><p dir="ltr">Dementia Friendly Illinois Subcommittee monthly meeting.</p><p dir="ltr">&nbsp;</p><hr><p>&nbsp;</p><h3 dir="ltr">Meeting Details:</h3><p dir="ltr">Meeting Format: This event is hybrid (both in-person and virtual options available).&nbsp;</p><p dir="ltr">Online Meeting Link:&nbsp;</p><p dir="ltr">Join meeting with Zoom: <a href="https://us06web.zoom.us/j/81253231085?pwd=beaTSD27JdG8iqqbGVrke8MDdubpkE.1">https://us06web.zoom.us/j/81253231085?pwd=beaTSD27JdG8iqqbGVrke8MDdubpkE.1</a></p><p dir="ltr">Passcode: 862682</p><p dir="ltr">Public Comment: To sign up for public comment, please email aging@cityofevanston.org</p><p dir="ltr">Meeting Materials:</p><ul>    <li dir="ltr" aria-level="1">    <p dir="ltr" role="presentation">Agendas are posted 48 hours in advance on the committee webpage</p>    </li></ul><p dir="ltr">Learn More:</p><ul>    <li dir="ltr" aria-level="1">    <p dir="ltr" role="presentation"><a href="https://www.cityofevanston.org/government/boards-commissions-and-committees/commission-on-aging">Committee Webpage</a></p>    </li></ul>
LOCATION:Levy Senior Center\, 300 Dodge Avenue Evanston\, Illinois 60202
CLASS:PUBLIC
END:VEVENT
END:VCALENDAR
