BEGIN:VCALENDAR
VERSION:2.0
PRODID:City of Evanston Calendar Creator
METHOD:PUBLISH
BEGIN:VEVENT
DTSTAMP:20260112T143326
DTSTART:20260406T170000
DTEND:20260406T190000
SUMMARY:Human Services Committee Meeting
DESCRIPTION:<p>Visit the&nbsp;<a href="https://www.cityofevanston.org/?navid=536" target="_blank" data-saferedirecturl="https://www.google.com/url?q=https://www.cityofevanston.org/?navid%3D536&amp;source=gmail&amp;ust=1577904892545000&amp;usg=AFQjCNHOG81qUfM7nFBD48vzuuyLzEozGw">committee webpage</a>&nbsp;to view meeting agendas and Zoom links, posted 48 hours in advance of the meeting."</p><p>&nbsp;Public comment:&nbsp;<a href="https://www.cityofevanston.org/government/city-clerk/public-comment-sign-up" target="_blank">https://www.cityofevanston.org/government/city-clerk/public-comment-sign-up</a></p>
X-ALT-DESC;FMTTYPE=text/html:<p>Visit the&nbsp;<a href="https://www.cityofevanston.org/?navid=536" target="_blank" data-saferedirecturl="https://www.google.com/url?q=https://www.cityofevanston.org/?navid%3D536&amp;source=gmail&amp;ust=1577904892545000&amp;usg=AFQjCNHOG81qUfM7nFBD48vzuuyLzEozGw">committee webpage</a>&nbsp;to view meeting agendas and Zoom links, posted 48 hours in advance of the meeting."</p><p>&nbsp;Public comment:&nbsp;<a href="https://www.cityofevanston.org/government/city-clerk/public-comment-sign-up" target="_blank">https://www.cityofevanston.org/government/city-clerk/public-comment-sign-up</a></p>
LOCATION:Lorraine H. Morton City Hall\, 909 Davis Evanston\, Illinois 60201
CLASS:PUBLIC
END:VEVENT
END:VCALENDAR
