BEGIN:VCALENDAR
VERSION:2.0
PRODID:City of Evanston Calendar Creator
METHOD:PUBLISH
BEGIN:VEVENT
DTSTAMP:20260121T124516
DTSTART:20260425T173000
DTEND:20260425T193000
SUMMARY:Chicago Stars vs Boston Legacy
DESCRIPTION:Location: Northwestern Medicine Field at Martin Stadium, Evanston, IL
X-ALT-DESC;FMTTYPE=text/html:Location: Northwestern Medicine Field at Martin Stadium, Evanston, IL
LOCATION:
CLASS:PUBLIC
END:VEVENT
END:VCALENDAR
