BEGIN:VCALENDAR
VERSION:2.0
PRODID:City of Evanston Calendar Creator
METHOD:PUBLISH
BEGIN:VEVENT
DTSTAMP:20260203T094858
DTSTART:20260417T071500
DTEND:20260417T084500
SUMMARY:Utilities Commission
DESCRIPTION:<h3>Event Description:</h3><p>Utilities Commission Meeting</p><h3>Meeting Details:</h3><p>Meeting Format: This event is in person</p><p>Public Comment: Community members are welcome to attend and may&nbsp;<a href="https://docs.google.com/forms/d/e/1FAIpQLSeLr-a2SWsSqIpKAATMekdvbarDm0ybkA6IfRFY2eUBWQYUOw/viewform" target="_blank" rel="noopener">sign up to provide public comment</a>&nbsp;for this event.</p><p>Meeting Materials:&nbsp;</p>
X-ALT-DESC;FMTTYPE=text/html:<h3>Event Description:</h3><p>Utilities Commission Meeting</p><h3>Meeting Details:</h3><p>Meeting Format: This event is in person</p><p>Public Comment: Community members are welcome to attend and may&nbsp;<a href="https://docs.google.com/forms/d/e/1FAIpQLSeLr-a2SWsSqIpKAATMekdvbarDm0ybkA6IfRFY2eUBWQYUOw/viewform" target="_blank" rel="noopener">sign up to provide public comment</a>&nbsp;for this event.</p><p>Meeting Materials:&nbsp;</p>
LOCATION:Water Treatment Facility\, 555 Lincoln St. Evanston\, Illinois 60201
CLASS:PUBLIC
END:VEVENT
END:VCALENDAR
